BEGIN:VCALENDAR
VERSION:2.0
PRODID:Inauguração do Memorial aos Combatentes de Estorãos
X-WR-CALNAME:Inauguração do Memorial aos Combatentes de Estorãos
X-WR-TIMEZONE:Europe/Lisbon
X-PUBLISHED-TTL:P1W
BEGIN:VTIMEZONE
TZID:Europe/Lisbon
X-LIC-LOCATION:Europe/Lisbon
END:VTIMEZONE
BEGIN:VEVENT
UID:69ea1e193cd43
DTSTART;VALUE=DATE:20260516
SEQUENCE:0
TRANSP:OPAQUE
DTEND;VALUE=DATE:20260517
SUMMARY:Inauguração do Memorial aos Combatentes de Estorãos
CLASS:PUBLIC
DESCRIPTION:A Junta de Freguesia de Estorãos\, o Núcleo de Ponte de Lima 
 da Liga dos Combatentes e o promotor do evento\, o Sr. Zeferino Vilaverde\
 , convidam a população para a inauguração do Memorial aos Combatentes 
 de Estorãos\, Ponte de Lima\, que terá lugar no dia 16 de maio de 2026 (
 sábado)\, pelas 11h00\, junto à Igreja Paroquial de Estorãos.
X-MICROSOFT-CDO-ALLDAYEVENT:TRUE
DTSTAMP:20260423T132649Z
END:VEVENT
END:VCALENDAR