BEGIN:VCALENDAR
VERSION:2.0
PRODID:Rally Series Ponte de Lima 2026
X-WR-CALNAME:Rally Series Ponte de Lima 2026
X-WR-TIMEZONE:Europe/Lisbon
X-PUBLISHED-TTL:P1W
BEGIN:VTIMEZONE
TZID:Europe/Lisbon
X-LIC-LOCATION:Europe/Lisbon
END:VTIMEZONE
BEGIN:VEVENT
UID:69ea1d0c78d09
DTSTART;VALUE=DATE:20260524
SEQUENCE:0
TRANSP:OPAQUE
DTEND;VALUE=DATE:20260525
SUMMARY:Rally Series Ponte de Lima 2026
CLASS:PUBLIC
DESCRIPTION:O Município de Ponte de Lima está a promover a organização 
 do Rally Series Ponte de Lima 2026 no fim-de-semana 23 e 24 de maio\, com 
 classificativa prevista para Estorãos na manhã de domingo\, dia 24 de ma
 io de 2026\, para o qual serão cortados os acessos\, a partir das 8h30m d
 esse dia\, nas Ruas de Gafarim\, Serra de Arga\, Alto Cavalinho e Lourinha
 l.
X-MICROSOFT-CDO-ALLDAYEVENT:TRUE
DTSTAMP:20260423T132220Z
END:VEVENT
END:VCALENDAR